BEGIN:VCALENDAR
VERSION:2.0
PRODID:-//Parohia Sfantul Apostol si Evanghelist Marcu Iasi - ECPv5.3.2.1//NONSGML v1.0//EN
CALSCALE:GREGORIAN
METHOD:PUBLISH
X-WR-CALNAME:Parohia Sfantul Apostol si Evanghelist Marcu Iasi
X-ORIGINAL-URL:https://parohiasfmarcuiasi.ro
X-WR-CALDESC:Events for Parohia Sfantul Apostol si Evanghelist Marcu Iasi
BEGIN:VTIMEZONE
TZID:UTC
BEGIN:STANDARD
TZOFFSETFROM:+0000
TZOFFSETTO:+0000
TZNAME:UTC
DTSTART:20220101T000000
END:STANDARD
END:VTIMEZONE
BEGIN:VEVENT
DTSTART;TZID=UTC:20220312T120000
DTEND;TZID=UTC:20220430T170000
DTSTAMP:20260421T085848
CREATED:20210811T194359Z
LAST-MODIFIED:20220322T211910Z
UID:1971-1647086400-1651338000@parohiasfmarcuiasi.ro
SUMMARY:Ateliere de muzica\, teatru si pictura
DESCRIPTION:Iubiţi credincioși\, \nCu ajutorul lui Dumnezeu au început atelierele de muzică\, pictură și teatru de care copii s-au bucurat nespus de mult.\nAcestea au menirea de a dezvolta creativitatea fiecărui tânăr\, de a ocupa frumos un timp binecuvântat pe care Dumnezeu l-a oferit tuturor.\nNădăjduiesc că împlinim cum se cuvine cuvântul Domnului: ” Lăsați copii să vină la mine căci a unora că aceștia este împărăția lui Dumnezeu”(Luca 18\,16). \nPreot Paroh\,\nBogdan Florin Melinte \n\n\n\n\n\n\n\n\n\n\n\n\n\n\n    \n\n\n    \n\n\n            \n\n                \n\n				\n              \n              \n           \n\n				WhatsApp Image 2022-03-13 at 16.34.44 (1)\n				\n   \n\n\n\n    \n\n\n            \n\n                \n\n				\n              \n              \n           \n\n				WhatsApp Image 2022-03-13 at 16.34.44 (2)\n				\n   \n\n\n\n    \n\n\n            \n\n                \n\n				\n              \n              \n           \n\n				WhatsApp Image 2022-03-13 at 16.34.44\n				\n   \n\n\n\n    \n\n\n            \n\n                \n\n				\n              \n              \n           \n\n				WhatsApp Image 2022-03-13 at 16.34.45\n				\n   \n\n\n\n    \n\n\n            \n\n                \n\n				\n              \n              \n           \n\n				WhatsApp Image 2022-03-13 at 16.34.45 (1)\n				\n   \n\n\n\n    \n\n\n            \n\n                \n\n				\n              \n              \n           \n\n				WhatsApp Image 2022-03-13 at 16.34.45 (2)
URL:https://parohiasfmarcuiasi.ro/eveniment/1971/
LOCATION:Parohia “Sfântul Apostol și Evanghelist Marcu”\, Str. Voinești\, nr. 29\, Iași\, Iași\, 700654\, România
CATEGORIES:Ateliere
ATTACH;FMTTYPE=image/jpeg:https://parohiasfmarcuiasi.ro/wp-content/uploads/2022/02/WhatsApp-Image-2022-02-14-at-05.27.16.jpeg
ORGANIZER;CN="Parohia%20Sf.%20Apostol%20si%20Evanghelist%20Marcu%20-%20Iasi":MAILTO:sfmarcuiasi@gmail.com
END:VEVENT
END:VCALENDAR