BEGIN:VCALENDAR
VERSION:2.0
PRODID:-//Parohia Sfantul Apostol si Evanghelist Marcu Iasi - ECPv5.3.2.1//NONSGML v1.0//EN
CALSCALE:GREGORIAN
METHOD:PUBLISH
X-WR-CALNAME:Parohia Sfantul Apostol si Evanghelist Marcu Iasi
X-ORIGINAL-URL:https://parohiasfmarcuiasi.ro
X-WR-CALDESC:Events for Parohia Sfantul Apostol si Evanghelist Marcu Iasi
BEGIN:VTIMEZONE
TZID:UTC
BEGIN:STANDARD
TZOFFSETFROM:+0000
TZOFFSETTO:+0000
TZNAME:UTC
DTSTART:20230101T000000
END:STANDARD
END:VTIMEZONE
BEGIN:VEVENT
DTSTART;TZID=UTC:20230225T133000
DTEND;TZID=UTC:20230311T153000
DTSTAMP:20260421T101442
CREATED:20230221T083621Z
LAST-MODIFIED:20230221T085442Z
UID:2484-1677331800-1678548600@parohiasfmarcuiasi.ro
SUMMARY:Încondeiatul oualor
DESCRIPTION:Organizăm atelierul Încondeiatul ouălor dedicat copiilor incepând de sâmbătă\, 25 Februarie la ora 13:30.\nPentru înscriere\, va rugăm sa apelati la nr. de telefon 0722588738.\nVă așteptăm!
URL:https://parohiasfmarcuiasi.ro/eveniment/incondeiatul-oualor/
LOCATION:Parohia “Sfântul Apostol și Evanghelist Marcu”\, Str. Voinești\, nr. 29\, Iași\, Iași\, 700654\, România
CATEGORIES:Ateliere
ORGANIZER;CN="Pr.%20Bogdan%20Florin%20Melinte":MAILTO:sfmarcuiasi@gmail.com
END:VEVENT
END:VCALENDAR